BEGIN:VCALENDAR
CALSCALE:GREGORIAN
METHOD:PUBLISH
VERSION:2.0
PRODID:-//iCalWriter OpenSource Project//iCalWriter 0.8.1//EN
BEGIN:VEVENT
DTSTAMP:20260420T113324Z
UID:1776684804Zrkh@www.stadt-oebisfelde-weferlingen.de
DTSTART:20260424T150000
DTEND:20260424T170000
SUMMARY:Tag der offenen Tür Grundschule "An der Aller"
DESCRIPTION:
LOCATION:Grundschule "An der Aller" 39646 Oebisfelde-Weferlingen / Oebisfelde
URL:https://www.stadt-oebisfelde-weferlingen.de/de/veranstaltung-detail/event/33886,1096/tag-der-offenen-tuer-grundschule-an-der-aller-24-04-2026.html
ATTACH:https://www.stadt-oebisfelde-weferlingen.de/de/datei/anzeigen/id/33887,1096/schule_anderaller_aussen2.jpg
END:VEVENT
END:VCALENDAR
