BEGIN:VCALENDAR
CALSCALE:GREGORIAN
METHOD:PUBLISH
VERSION:2.0
PRODID:-//iCalWriter OpenSource Project//iCalWriter 0.8.1//EN
BEGIN:VEVENT
DTSTAMP:20260419T202551Z
UID:1776630351ahaE@www.stadt-oebisfelde-weferlingen.de
DTSTART:20260419T140000
DTEND;VALUE=DATE:20260419
SUMMARY:Saisoneröffnung Heimat- und Apothekenmuseum
DESCRIPTION:Heimat- u. Apothekenmuseum eröffnet die Saison 2026 
Gutshof in Weferlingen mit Kaffee & Kuchen
LOCATION:Heimat- und Apothekenmuseum 
		39356 Oebisfelde-Weferlingen / Weferlingen
	
URL:https://www.stadt-oebisfelde-weferlingen.de/de/veranstaltung-detail/event/33295,1096/saisoneroeffnung-heimat--und-apothekenmuseum-19-04-2026.html
ATTACH:https://www.stadt-oebisfelde-weferlingen.de/de/datei/anzeigen/id/11749,1096/apotheken_museum_weferlingen.jpg
END:VEVENT
END:VCALENDAR
