BEGIN:VCALENDAR
CALSCALE:GREGORIAN
METHOD:PUBLISH
VERSION:2.0
PRODID:-//iCalWriter OpenSource Project//iCalWriter 0.8.1//EN
BEGIN:VEVENT
DTSTAMP:20260419T202859Z
UID:1776630539a1LF@www.stadt-oebisfelde-weferlingen.de
DTSTART:20260420T140000
DTEND;VALUE=DATE:20260420
SUMMARY:Seniorensport
DESCRIPTION:
LOCATION:"Kabuff" bei Heike Peters 
		39356 Oebisfelde-Weferlingen / Weferlingen
	
URL:https://www.stadt-oebisfelde-weferlingen.de/de/veranstaltung-detail/event/31702,1096/seniorensport-20-04-2026.html
ATTACH:https://www.stadt-oebisfelde-weferlingen.de/de/datei/anzeigen/id/31688,1096/gymnastik.jpg
END:VEVENT
END:VCALENDAR
