BEGIN:VCALENDAR
CALSCALE:GREGORIAN
METHOD:PUBLISH
VERSION:2.0
PRODID:-//iCalWriter OpenSource Project//iCalWriter 0.8.1//EN
BEGIN:VEVENT
DTSTAMP:20260419T170802Z
UID:1776618482LREm@www.stadt-oebisfelde-weferlingen.de
DTSTART:20250512T140000
DTEND;VALUE=DATE:20250512
SUMMARY:Seniorensport
DESCRIPTION:
LOCATION:"Kabuff" bei Heike Peters 
		39356 Oebisfelde-Weferlingen / Weferlingen
	
URL:https://www.stadt-oebisfelde-weferlingen.de/de/veranstaltung-detail/event/23743,1096/seniorensport-12-05-2025.html
ATTACH:https://www.stadt-oebisfelde-weferlingen.de/de/datei/anzeigen/id/23729,1096/gymnastik.jpg
END:VEVENT
END:VCALENDAR
